BEGIN:VCALENDAR
VERSION:2.0
PRODID:icalendar-ruby
CALSCALE:GREGORIAN
METHOD:PUBLISH
BEGIN:VEVENT
DTSTAMP:20260420T063558Z
UID:10-371634@gracerexburg.com
DTSTART:20261008T000000Z
DTEND:20261008T010000Z
CLASS:PUBLIC
CREATED:20260419T221005
DESCRIPTION:We start by looking at a promise from God's word\, the Bible an
 d then we pray!
LAST-MODIFIED:20260419T221005
LOCATION:Grace Baptist Church
SUMMARY:Wednesday Prayer Meeting
URL;VALUE=URI:https://www.gracerexburg.com/events/wednesday-prayer-meeting/
 2026-10-07
ATTACH;FILENAME=492490783_122232998732033987_4812201207648773015_n.jpg;FMTT
 YPE=image/jpeg:https://dq5pwpg1q8ru0.cloudfront.net/2025/12/16/04/27/29/79
 32d233-6710-41a0-a09f-f3a4eba25bf2/492490783_122232998732033987_4812201207
 648773015_n.jpg
END:VEVENT
END:VCALENDAR
